BEGIN:VCALENDAR
VERSION:2.0
PRODID:hinto.net
X-PUBLISHED-TTL:P1W
BEGIN:VEVENT
UID:hinto.net-event_show-6832874
DTSTART:20260606T100000
SEQUENCE:0
CREATED:20260319T151249
LAST-MODIFIED:20260319T151249
TRANSP:OPAQUE
DTEND:20260606T170000
LOCATION:Halle 6
SUMMARY:Halle 6 Classic
CLASS:PUBLIC
DESCRIPTION:
ORGANIZER:
DTSTAMP:20260421T083459
ATTACH:https://www.hinto.ch/de/events/halle-6-classic-06-06-2026-1000-halle-6-samstagern-e2768118-20.html
END:VEVENT
END:VCALENDAR
