BEGIN:VCALENDAR
VERSION:2.0
PRODID:hinto.net
X-PUBLISHED-TTL:P1W
BEGIN:VEVENT
UID:hinto.net-event_show-6836944
DTSTART:20261017T200000
SEQUENCE:0
CREATED:20260321T143527
LAST-MODIFIED:20260321T143527
TRANSP:OPAQUE
DTEND:20261017T213000
LOCATION:Würth Haus
SUMMARY:Hanna & Harald
CLASS:PUBLIC
DESCRIPTION:
ORGANIZER:
DTSTAMP:20260419T234519
ATTACH:https://www.hinto.ch/de/events/hanna-harald-17-10-2026-2000-wuerth-haus-rorschach-e2771189-20.html
END:VEVENT
END:VCALENDAR
