BEGIN:VCALENDAR
VERSION:2.0
PRODID:hinto.net
X-PUBLISHED-TTL:P1W
BEGIN:VEVENT
UID:hinto.net-event_show-6525139
DTSTART:20261107T150000
SEQUENCE:0
CREATED:20251213T031912
LAST-MODIFIED:20251213T031912
TRANSP:OPAQUE

LOCATION:Kula
SUMMARY:Herr Jan und seine Superbänd
CLASS:PUBLIC
DESCRIPTION:
ORGANIZER:
DTSTAMP:20260419T234412
ATTACH:https://www.hinto.ch/de/events/herr-jan-und-seine-superbaend-07-11-2026-1500-kula-konstanz-e2514009-20.html
END:VEVENT
END:VCALENDAR
