BEGIN:VCALENDAR
VERSION:2.0
PRODID:hinto.net
X-PUBLISHED-TTL:P1W
BEGIN:VEVENT
UID:hinto.net-event_show-6909242
DTSTART:20260510T140000
SEQUENCE:0
CREATED:20260414T032426
LAST-MODIFIED:20260414T032426
TRANSP:OPAQUE
DTEND:20260510T150000
LOCATION:Kunstmuseum Basel | Hauptbau
SUMMARY:Highlights der Sammlung
CLASS:PUBLIC
DESCRIPTION:
ORGANIZER:
DTSTAMP:20260419T175600
ATTACH:https://www.hinto.ch/de/events/highlights-der-sammlung-10-05-2026-1400-kunstmuseum-basel-hauptbau-basel-e2442956-20.html
END:VEVENT
END:VCALENDAR
