BEGIN:VCALENDAR
VERSION:2.0
PRODID:hinto.net
X-PUBLISHED-TTL:P1W
BEGIN:VEVENT
UID:hinto.net-event_show-5858869
DTSTART:20270128T140000
SEQUENCE:0
CREATED:20250508T111822
LAST-MODIFIED:20250508T111822
TRANSP:OPAQUE
DTEND:20270128T170000
LOCATION:Schweizer Kindermuseum
SUMMARY:Hü, Rössli hü!
CLASS:PUBLIC
DESCRIPTION:
ORGANIZER:
DTSTAMP:20260424T120942
ATTACH:https://www.hinto.ch/de/events/hue-roessli-hue!-28-01-2027-1400-schweizer-kindermuseum-baden-e443946-20.html
END:VEVENT
END:VCALENDAR
