BEGIN:VCALENDAR
VERSION:2.0
PRODID:hinto.net
X-PUBLISHED-TTL:P1W
BEGIN:VEVENT
UID:hinto.net-event_show-6884509
DTSTART:20260529T193000
SEQUENCE:0
CREATED:20260404T234122
LAST-MODIFIED:20260404T234122
TRANSP:OPAQUE
DTEND:20260529T213000
LOCATION:Tonhalle
SUMMARY:Iki pasimatymo!
CLASS:PUBLIC
DESCRIPTION:
ORGANIZER:
DTSTAMP:20260421T064106
ATTACH:https://www.hinto.ch/de/events/iki-pasimatymo!-29-05-2026-1930-tonhalle-st-gallen-e2811271-20.html
END:VEVENT
END:VCALENDAR
