BEGIN:VCALENDAR
VERSION:2.0
PRODID:hinto.net
X-PUBLISHED-TTL:P1W
BEGIN:VEVENT
UID:hinto.net-event_show-6822601
DTSTART:20261127T193000
SEQUENCE:0
CREATED:20260316T102621
LAST-MODIFIED:20260316T102621
TRANSP:OPAQUE

LOCATION:Exil
SUMMARY:JAS
CLASS:PUBLIC
DESCRIPTION:
ORGANIZER:
DTSTAMP:20260419T205835
ATTACH:https://www.hinto.ch/de/events/jas-27-11-2026-1930-exil-zuerich-e2760221-20.html
END:VEVENT
END:VCALENDAR
