BEGIN:VCALENDAR
VERSION:2.0
PRODID:hinto.net
X-PUBLISHED-TTL:P1W
BEGIN:VEVENT
UID:hinto.net-event_show-6904068
DTSTART:20260515T170000
SEQUENCE:0
CREATED:20260411T115038
LAST-MODIFIED:20260411T115038
TRANSP:OPAQUE
DTEND:20260516T020000
LOCATION:Das weisse Schaf
SUMMARY:JESSE JAMES
CLASS:PUBLIC
DESCRIPTION:
ORGANIZER:
DTSTAMP:20260420T170210
ATTACH:https://www.hinto.ch/de/events/jesse-james-15-05-2026-1700-das-weisse-schaf-luzern-e2829284-20.html
END:VEVENT
END:VCALENDAR
