BEGIN:VCALENDAR
VERSION:2.0
PRODID:hinto.net
X-PUBLISHED-TTL:P1W
BEGIN:VEVENT
UID:hinto.net-event_show-6930689
DTSTART:20260421T200000
SEQUENCE:0
CREATED:20260421T031211
LAST-MODIFIED:20260421T031211
TRANSP:OPAQUE

LOCATION:Lady Hamilton's Pub
SUMMARY:Karaoke-Night
CLASS:PUBLIC
DESCRIPTION:
ORGANIZER:
DTSTAMP:20260425T020013
ATTACH:https://www.hinto.ch/de/events/karaoke-night-21-04-2026-2000-lady-hamiltons-pub-zuerich-e2852077-20.html
END:VEVENT
END:VCALENDAR
