BEGIN:VCALENDAR
VERSION:2.0
PRODID:hinto.net
X-PUBLISHED-TTL:P1W
BEGIN:VEVENT
UID:hinto.net-event_show-6862995
DTSTART:20260419T192500
SEQUENCE:0
CREATED:20260329T152032
LAST-MODIFIED:20260329T152032
TRANSP:OPAQUE
DTEND:20260419T195000
LOCATION:
SUMMARY:KiKa: PUR+
CLASS:PUBLIC
DESCRIPTION:
ORGANIZER:
DTSTAMP:20260420T051033
ATTACH:https://www.hinto.ch/de/events/kika-pur+-19-04-2026-1925-e2793611-20.html
END:VEVENT
END:VCALENDAR
