BEGIN:VCALENDAR
VERSION:2.0
PRODID:hinto.net
X-PUBLISHED-TTL:P1W
BEGIN:VEVENT
UID:hinto.net-event_show-6856691
DTSTART:20260417T180000
SEQUENCE:0
CREATED:20260327T233234
LAST-MODIFIED:20260327T233234
TRANSP:OPAQUE
DTEND:20260417T181000
LOCATION:
SUMMARY:KiKa: Rabbit Academy - Die Häschenschule
CLASS:PUBLIC
DESCRIPTION:
ORGANIZER:
DTSTAMP:20260419T211528
ATTACH:https://www.hinto.ch/de/events/kika-rabbit-academy-die-haeschenschule-17-04-2026-1800-e2787870-20.html
END:VEVENT
END:VCALENDAR
