BEGIN:VCALENDAR
VERSION:2.0
PRODID:hinto.net
X-PUBLISHED-TTL:P1W
BEGIN:VEVENT
UID:hinto.net-event_show-6807031
DTSTART:20260607T000000
SEQUENCE:0
CREATED:20260311T051342
LAST-MODIFIED:20260311T051342
TRANSP:OPAQUE
DTEND:20260705T000000
LOCATION:Komturei Tobel
SUMMARY:KIPPPUNKT ohm41
CLASS:PUBLIC
DESCRIPTION:
ORGANIZER:
DTSTAMP:20260419T223413
ATTACH:https://www.hinto.ch/de/events/kipppunkt-ohm41-07-06-2026-0000-komturei-tobel-tobel-e2746800-20.html
END:VEVENT
END:VCALENDAR
