BEGIN:VCALENDAR
VERSION:2.0
PRODID:hinto.net
X-PUBLISHED-TTL:P1W
BEGIN:VEVENT
UID:hinto.net-event_show-6619658
DTSTART:20260613T171500
SEQUENCE:0
CREATED:20260114T064142
LAST-MODIFIED:20260114T064142
TRANSP:OPAQUE
DTEND:20260613T183000
LOCATION:Kloster Einsiedeln
SUMMARY:Klang der Stille II
CLASS:PUBLIC
DESCRIPTION:
ORGANIZER:
DTSTAMP:20260421T002310
ATTACH:https://www.hinto.ch/de/events/klang-der-stille-ii-13-06-2026-1715-kloster-einsiedeln-einsiedeln-e2598604-20.html
END:VEVENT
END:VCALENDAR
