BEGIN:VCALENDAR
VERSION:2.0
PRODID:hinto.net
X-PUBLISHED-TTL:P1W
BEGIN:VEVENT
UID:hinto.net-event_show-6925445
DTSTART:20260619T183000
SEQUENCE:0
CREATED:20260419T052225
LAST-MODIFIED:20260419T052225
TRANSP:OPAQUE

LOCATION:Casinotheater Winterthur
SUMMARY:Krimidinner
CLASS:PUBLIC
DESCRIPTION:
ORGANIZER:
DTSTAMP:20260421T002737
ATTACH:https://www.hinto.ch/de/events/krimidinner-19-06-2026-1830-casinotheater-winterthur-winterthur-e2847508-20.html
END:VEVENT
END:VCALENDAR
