BEGIN:VCALENDAR
VERSION:2.0
PRODID:hinto.net
X-PUBLISHED-TTL:P1W
BEGIN:VEVENT
UID:hinto.net-event_show-6854235
DTSTART:20260501T000000
SEQUENCE:0
CREATED:20260327T041636
LAST-MODIFIED:20260327T041636
TRANSP:OPAQUE
DTEND:20261025T000000
LOCATION:Iselisberg
SUMMARY:Kunst & Wein am Iselisberg
CLASS:PUBLIC
DESCRIPTION:
ORGANIZER:
DTSTAMP:20260419T234114
ATTACH:https://www.hinto.ch/de/events/kunst-wein-am-iselisberg-01-05-2026-0000-iselisberg-uesslingen-e2786047-20.html
END:VEVENT
END:VCALENDAR
