BEGIN:VCALENDAR
VERSION:2.0
PRODID:hinto.net
X-PUBLISHED-TTL:P1W
BEGIN:VEVENT
UID:hinto.net-event_show-6871629
DTSTART:20260417T002500
SEQUENCE:0
CREATED:20260416T220304
LAST-MODIFIED:20260416T220304
TRANSP:OPAQUE
DTEND:20260417T010955
LOCATION:
SUMMARY:La 1: Poker Face - Riposa nel metal
CLASS:PUBLIC
DESCRIPTION:
ORGANIZER:
DTSTAMP:20260421T074237
ATTACH:https://www.hinto.ch/de/events/la-1-poker-face-riposa-nel-metal-17-04-2026-0025-e2800033-20.html
END:VEVENT
END:VCALENDAR
