BEGIN:VCALENDAR
VERSION:2.0
PRODID:hinto.net
X-PUBLISHED-TTL:P1W
BEGIN:VEVENT
UID:hinto.net-event_show-6856357
DTSTART:20260417T180000
SEQUENCE:0
CREATED:20260418T060218
LAST-MODIFIED:20260418T060218
TRANSP:OPAQUE
DTEND:20260417T185241
LOCATION:
SUMMARY:La 1: Prima Ora
CLASS:PUBLIC
DESCRIPTION:
ORGANIZER:
DTSTAMP:20260419T173812
ATTACH:https://www.hinto.ch/de/events/la-1-prima-ora-17-04-2026-1800-e2787536-20.html
END:VEVENT
END:VCALENDAR
