BEGIN:VCALENDAR
VERSION:2.0
PRODID:hinto.net
X-PUBLISHED-TTL:P1W
BEGIN:VEVENT
UID:hinto.net-event_show-6871630
DTSTART:20260417T011000
SEQUENCE:0
CREATED:20260416T220305
LAST-MODIFIED:20260416T220305
TRANSP:OPAQUE
DTEND:20260417T020900
LOCATION:
SUMMARY:La 1: Siamo fuori (R)
CLASS:PUBLIC
DESCRIPTION:
ORGANIZER:
DTSTAMP:20260421T062955
ATTACH:https://www.hinto.ch/de/events/la-1-siamo-fuori-(r)-17-04-2026-0110-e2800034-20.html
END:VEVENT
END:VCALENDAR
