BEGIN:VCALENDAR
VERSION:2.0
PRODID:hinto.net
X-PUBLISHED-TTL:P1W
BEGIN:VEVENT
UID:hinto.net-event_show-6919459
DTSTART:20260419T150000
SEQUENCE:0
CREATED:20260417T042529
LAST-MODIFIED:20260417T042529
TRANSP:OPAQUE
DTEND:20260419T172611
LOCATION:
SUMMARY:La 2: Ciclismo: Classiche 2026 - Amstel Gold Race
CLASS:PUBLIC
DESCRIPTION:
ORGANIZER:
DTSTAMP:20260421T041210
ATTACH:https://www.hinto.ch/de/events/la-2-ciclismo-classiche-2026-amstel-gold-race-19-04-2026-1500-e2842416-20.html
END:VEVENT
END:VCALENDAR
