BEGIN:VCALENDAR
VERSION:2.0
PRODID:hinto.net
X-PUBLISHED-TTL:P1W
BEGIN:VEVENT
UID:hinto.net-event_show-6844034
DTSTART:20260426T140000
SEQUENCE:0
CREATED:20260323T074605
LAST-MODIFIED:20260323T074605
TRANSP:OPAQUE

LOCATION:Genève Queue d'Arve
SUMMARY:Lancy Plan-les-Ouates Hb - SG Solothurn-Regio
CLASS:PUBLIC
DESCRIPTION:
ORGANIZER:
DTSTAMP:20260424T042214
ATTACH:https://www.hinto.ch/de/events/lancy-plan-les-ouates-hb-sg-solothurn-regio-26-04-2026-1400-geneve-queue-darve-les-acacias-e2532998-20.html
END:VEVENT
END:VCALENDAR
