BEGIN:VCALENDAR
VERSION:2.0
PRODID:hinto.net
X-PUBLISHED-TTL:P1W
BEGIN:VEVENT
UID:hinto.net-event_show-6826201
DTSTART:20260419T130000
SEQUENCE:0
CREATED:20260318T050410
LAST-MODIFIED:20260318T050410
TRANSP:OPAQUE
DTEND:20260419T170000
LOCATION:Museum Fram
SUMMARY:«Ein Dorf von Welt»
CLASS:PUBLIC
DESCRIPTION:
ORGANIZER:
DTSTAMP:20260420T192752
ATTACH:https://www.hinto.ch/de/events/lein-dorf-von-weltr-19-04-2026-1300-museum-fram-einsiedeln-e2762599-20.html
END:VEVENT
END:VCALENDAR
