BEGIN:VCALENDAR
VERSION:2.0
PRODID:hinto.net
X-PUBLISHED-TTL:P1W
BEGIN:VEVENT
UID:hinto.net-event_show-6921868
DTSTART:20261105T190000
SEQUENCE:0
CREATED:20260417T071635
LAST-MODIFIED:20260417T071635
TRANSP:OPAQUE
DTEND:20261105T210000
LOCATION:Hagenhaus
SUMMARY:Leonkoro Quartett KLAGEGESANG
CLASS:PUBLIC
DESCRIPTION:
ORGANIZER:
DTSTAMP:20260424T200301
ATTACH:https://www.hinto.ch/de/events/leonkoro-quartett-klagegesang-05-11-2026-1900-hagenhaus-nendeln-e2844647-20.html
END:VEVENT
END:VCALENDAR
