BEGIN:VCALENDAR
VERSION:2.0
PRODID:hinto.net
X-PUBLISHED-TTL:P1W
BEGIN:VEVENT
UID:hinto.net-event_show-6844406
DTSTART:20260510T163000
SEQUENCE:0
CREATED:20260324T034055
LAST-MODIFIED:20260324T034055
TRANSP:OPAQUE

LOCATION:Musée historique de Lausanne
SUMMARY:Les doudous au musée
CLASS:PUBLIC
DESCRIPTION:
ORGANIZER:
DTSTAMP:20260424T112149
ATTACH:https://www.hinto.ch/de/events/les-doudous-au-musee-10-05-2026-1630-musee-historique-de-lausanne-lausanne-e2352449-20.html
END:VEVENT
END:VCALENDAR
