BEGIN:VCALENDAR
VERSION:2.0
PRODID:hinto.net
X-PUBLISHED-TTL:P1W
BEGIN:VEVENT
UID:hinto.net-event_show-6776396
DTSTART:20260417T190000
SEQUENCE:0
CREATED:20260305T102315
LAST-MODIFIED:20260305T102315
TRANSP:OPAQUE
DTEND:20260417T230000
LOCATION:QuBa Quartierzentrum Bachletten
SUMMARY:Les Festins du Vendredi
CLASS:PUBLIC
DESCRIPTION:
ORGANIZER:
DTSTAMP:20260424T035920
ATTACH:https://www.hinto.ch/de/events/les-festins-du-vendredi-17-04-2026-1900-quba-quartierzentrum-bachletten-basel-e2732007-20.html
END:VEVENT
END:VCALENDAR
