BEGIN:VCALENDAR
VERSION:2.0
PRODID:hinto.net
X-PUBLISHED-TTL:P1W
BEGIN:VEVENT
UID:hinto.net-event_show-6921820
DTSTART:20260423T200000
SEQUENCE:0
CREATED:20260417T071410
LAST-MODIFIED:20260417T071410
TRANSP:OPAQUE
DTEND:20260423T230000
LOCATION:KultBau
SUMMARY:Lori Williams Band
CLASS:PUBLIC
DESCRIPTION:
ORGANIZER:
DTSTAMP:20260420T205411
ATTACH:https://www.hinto.ch/de/events/lori-williams-band-23-04-2026-2000-kultbau-st-gallen-e2844600-20.html
END:VEVENT
END:VCALENDAR
