BEGIN:VCALENDAR
VERSION:2.0
PRODID:hinto.net
X-PUBLISHED-TTL:P1W
BEGIN:VEVENT
UID:hinto.net-event_show-6481895
DTSTART:20260509T201500
SEQUENCE:0
CREATED:20251127T192338
LAST-MODIFIED:20251127T192338
TRANSP:OPAQUE
DTEND:20260509T000000
LOCATION:Der Teufelhof Basel
SUMMARY:Manuel Stahlberger: «Es geht»
CLASS:PUBLIC
DESCRIPTION:
ORGANIZER:
DTSTAMP:20260424T052636
ATTACH:https://www.hinto.ch/de/events/manuel-stahlberger-les-gehtr-09-05-2026-2015-der-teufelhof-basel-basel-e2476815-20.html
END:VEVENT
END:VCALENDAR
