BEGIN:VCALENDAR
VERSION:2.0
PRODID:hinto.net
X-PUBLISHED-TTL:P1W
BEGIN:VEVENT
UID:hinto.net-event_show-6746260
DTSTART:20260424T203000
SEQUENCE:0
CREATED:20260224T033225
LAST-MODIFIED:20260224T033225
TRANSP:OPAQUE

LOCATION:Jazztone
SUMMARY:Mareike Wiening Quintett
CLASS:PUBLIC
DESCRIPTION:
ORGANIZER:
DTSTAMP:20260420T021845
ATTACH:https://www.hinto.ch/de/events/mareike-wiening-quintett-24-04-2026-2030-jazztone-loerrach-e2705123-20.html
END:VEVENT
END:VCALENDAR
