BEGIN:VCALENDAR
VERSION:2.0
PRODID:hinto.net
X-PUBLISHED-TTL:P1W
BEGIN:VEVENT
UID:hinto.net-event_show-6924923
DTSTART:20260611T200000
SEQUENCE:0
CREATED:20260419T051934
LAST-MODIFIED:20260419T051934
TRANSP:OPAQUE
DTEND:20260611T220000
LOCATION:Altes Kino Mels
SUMMARY:Mitgliederversammlung
CLASS:PUBLIC
DESCRIPTION:
ORGANIZER:
DTSTAMP:20260421T072301
ATTACH:https://www.hinto.ch/de/events/mitgliederversammlung-11-06-2026-2000-altes-kino-mels-mels-e2847228-20.html
END:VEVENT
END:VCALENDAR
