BEGIN:VCALENDAR
VERSION:2.0
PRODID:hinto.net
X-PUBLISHED-TTL:P1W
BEGIN:VEVENT
UID:hinto.net-event_show-6925426
DTSTART:20260530T230000
SEQUENCE:0
CREATED:20260419T052220
LAST-MODIFIED:20260419T052220
TRANSP:OPAQUE
DTEND:20260530T060000
LOCATION:Albani
SUMMARY:Morpheo: Noée & Etepepete
CLASS:PUBLIC
DESCRIPTION:
ORGANIZER:
DTSTAMP:20260419T231240
ATTACH:https://www.hinto.ch/de/events/morpheo-noee-etepepete-30-05-2026-2300-albani-winterthur-e2847490-20.html
END:VEVENT
END:VCALENDAR
