BEGIN:VCALENDAR
VERSION:2.0
PRODID:hinto.net
X-PUBLISHED-TTL:P1W
BEGIN:VEVENT
UID:hinto.net-event_show-6605655
DTSTART:20260812T193000
SEQUENCE:0
CREATED:20260109T034307
LAST-MODIFIED:20260109T034307
TRANSP:OPAQUE
DTEND:20260812T220000
LOCATION:Stage19
SUMMARY:Musig im Hopp mit Jörg Danielsen
CLASS:PUBLIC
DESCRIPTION:
ORGANIZER:
DTSTAMP:20260424T151632
ATTACH:https://www.hinto.ch/de/events/musig-im-hopp-mit-joerg-danielsen-12-08-2026-1930-stage19-au-sg-e2585924-20.html
END:VEVENT
END:VCALENDAR
