BEGIN:VCALENDAR
VERSION:2.0
PRODID:hinto.net
X-PUBLISHED-TTL:P1W
BEGIN:VEVENT
UID:hinto.net-event_show-6863824
DTSTART:20260419T190500
SEQUENCE:0
CREATED:20260329T155902
LAST-MODIFIED:20260329T155902
TRANSP:OPAQUE
DTEND:20260419T193000
LOCATION:
SUMMARY:Nickelodeon / CC: Ein Mädchen namens Lay Lay
CLASS:PUBLIC
DESCRIPTION:
ORGANIZER:
DTSTAMP:20260420T182154
ATTACH:https://www.hinto.ch/de/events/nickelodeon-cc-ein-maedchen-namens-lay-lay-19-04-2026-1905-e2794440-20.html
END:VEVENT
END:VCALENDAR
