BEGIN:VCALENDAR
VERSION:2.0
PRODID:hinto.net
X-PUBLISHED-TTL:P1W
BEGIN:VEVENT
UID:hinto.net-event_show-6848296
DTSTART:20260425T080000
SEQUENCE:0
CREATED:20260325T075834
LAST-MODIFIED:20260325T075834
TRANSP:OPAQUE
DTEND:20260425T153000
LOCATION:Samariterverein Dübendorf
SUMMARY:Notfälle Kinder 5 – 15
CLASS:PUBLIC
DESCRIPTION:
ORGANIZER:
DTSTAMP:20260424T074839
ATTACH:https://www.hinto.ch/de/events/notfaelle-kinder-5-n-15-25-04-2026-0800-samariterverein-duebendorf-duebendorf-e2780448-20.html
END:VEVENT
END:VCALENDAR
