BEGIN:VCALENDAR
VERSION:2.0
PRODID:hinto.net
X-PUBLISHED-TTL:P1W
BEGIN:VEVENT
UID:hinto.net-event_show-6436855
DTSTART:20260606T110000
SEQUENCE:0
CREATED:20251113T044326
LAST-MODIFIED:20251113T044326
TRANSP:OPAQUE
DTEND:20260606T120000
LOCATION:Schloss Thun
SUMMARY:Öffentliche Schlossführung
CLASS:PUBLIC
DESCRIPTION:
ORGANIZER:
DTSTAMP:20260421T085212
ATTACH:https://www.hinto.ch/de/events/oeffentliche-schlossfuehrung-06-06-2026-1100-schloss-thun-thun-e2405563-20.html
END:VEVENT
END:VCALENDAR
