BEGIN:VCALENDAR
VERSION:2.0
PRODID:hinto.net
X-PUBLISHED-TTL:P1W
BEGIN:VEVENT
UID:hinto.net-event_show-6924893
DTSTART:20260607T190000
SEQUENCE:0
CREATED:20260419T051926
LAST-MODIFIED:20260419T051926
TRANSP:OPAQUE
DTEND:20260607T210000
LOCATION:Perronnord
SUMMARY:Omnivore (CH)
CLASS:PUBLIC
DESCRIPTION:
ORGANIZER:
DTSTAMP:20260424T041531
ATTACH:https://www.hinto.ch/de/events/omnivore-(ch)-07-06-2026-1900-perronnord-st-gallen-e2847199-20.html
END:VEVENT
END:VCALENDAR
