BEGIN:VCALENDAR
VERSION:2.0
PRODID:hinto.net
X-PUBLISHED-TTL:P1W
BEGIN:VEVENT
UID:hinto.net-event_show-6707066
DTSTART:20261110T170000
SEQUENCE:0
CREATED:20260211T193541
LAST-MODIFIED:20260211T193541
TRANSP:OPAQUE
DTEND:20261110T191500
LOCATION:Campo Al Ponte
SUMMARY:Online-Infoanlass Weiterbildung
CLASS:PUBLIC
DESCRIPTION:
ORGANIZER:
DTSTAMP:20260421T044115
ATTACH:https://www.hinto.ch/de/events/online-infoanlass-weiterbildung-10-11-2026-1700-campo-al-ponte-claro-e2673059-20.html
END:VEVENT
END:VCALENDAR
