BEGIN:VCALENDAR
VERSION:2.0
PRODID:hinto.net
X-PUBLISHED-TTL:P1W
BEGIN:VEVENT
UID:hinto.net-event_show-6930174
DTSTART:20260425T150000
SEQUENCE:0
CREATED:20260420T222623
LAST-MODIFIED:20260420T222623
TRANSP:OPAQUE

LOCATION:Werkhof Egelsee
SUMMARY:OpenHouse Session Hauri, Danzeisen & Co.
CLASS:PUBLIC
DESCRIPTION:
ORGANIZER:
DTSTAMP:20260424T151014
ATTACH:https://www.hinto.ch/de/events/openhouse-session-hauri-danzeisen-co-25-04-2026-1500-werkhof-egelsee-bern-e2851933-20.html
END:VEVENT
END:VCALENDAR
