BEGIN:VCALENDAR
VERSION:2.0
PRODID:hinto.net
X-PUBLISHED-TTL:P1W
BEGIN:VEVENT
UID:hinto.net-event_show-6862484
DTSTART:20260417T180500
SEQUENCE:0
CREATED:20260329T144959
LAST-MODIFIED:20260329T144959
TRANSP:OPAQUE
DTEND:20260417T190000
LOCATION:
SUMMARY:Puls 8: Navy CIS: New Orleans
CLASS:PUBLIC
DESCRIPTION:
ORGANIZER:
DTSTAMP:20260419T230946
ATTACH:https://www.hinto.ch/de/events/puls-8-navy-cis-new-orleans-17-04-2026-1805-e2793100-20.html
END:VEVENT
END:VCALENDAR
