BEGIN:VCALENDAR
VERSION:2.0
PRODID:hinto.net
X-PUBLISHED-TTL:P1W
BEGIN:VEVENT
UID:hinto.net-event_show-6893810
DTSTART:20260429T210000
SEQUENCE:0
CREATED:20260409T055815
LAST-MODIFIED:20260409T055815
TRANSP:OPAQUE

LOCATION:Fri-Son
SUMMARY:Queer Solidarity Party
CLASS:PUBLIC
DESCRIPTION:
ORGANIZER:
DTSTAMP:20260424T100844
ATTACH:https://www.hinto.ch/de/events/queer-solidarity-party-29-04-2026-2100-fri-son-freiburg-e2819756-20.html
END:VEVENT
END:VCALENDAR
