BEGIN:VCALENDAR
VERSION:2.0
PRODID:hinto.net
X-PUBLISHED-TTL:P1W
BEGIN:VEVENT
UID:hinto.net-event_show-5020085
DTSTART:20271007T140000
SEQUENCE:0
CREATED:20241007T060141
LAST-MODIFIED:20241007T060141
TRANSP:OPAQUE
DTEND:20271007T170000
LOCATION:Schweizer Kindermuseum
SUMMARY:Rakete, Mond und Sterne
CLASS:PUBLIC
DESCRIPTION:
ORGANIZER:
DTSTAMP:20260421T095348
ATTACH:https://www.hinto.ch/de/events/rakete-mond-und-sterne-07-10-2027-1400-schweizer-kindermuseum-baden-e72056-20.html
END:VEVENT
END:VCALENDAR
