BEGIN:VCALENDAR
VERSION:2.0
PRODID:hinto.net
X-PUBLISHED-TTL:P1W
BEGIN:VEVENT
UID:hinto.net-event_show-4895779
DTSTART:20270911T140000
SEQUENCE:0
CREATED:20240911T060630
LAST-MODIFIED:20240911T060630
TRANSP:OPAQUE
DTEND:20270911T170000
LOCATION:Schweizer Kindermuseum
SUMMARY:Rakete, Mond und Sterne
CLASS:PUBLIC
DESCRIPTION:
ORGANIZER:
DTSTAMP:20260424T101420
ATTACH:https://www.hinto.ch/de/events/rakete-mond-und-sterne-11-09-2027-1400-schweizer-kindermuseum-baden-e72056-20.html
END:VEVENT
END:VCALENDAR
