BEGIN:VCALENDAR
VERSION:2.0
PRODID:hinto.net
X-PUBLISHED-TTL:P1W
BEGIN:VEVENT
UID:hinto.net-event_show-6203432
DTSTART:20260509T201500
SEQUENCE:0
CREATED:20250827T111602
LAST-MODIFIED:20250827T111602
TRANSP:OPAQUE
DTEND:20260509T000000
LOCATION:Kellertheater Bremgarten
SUMMARY:Reto Zeller: Held
CLASS:PUBLIC
DESCRIPTION:
ORGANIZER:
DTSTAMP:20260421T072900
ATTACH:https://www.hinto.ch/de/events/reto-zeller-held-09-05-2026-2015-kellertheater-bremgarten-bremgarten-e2242927-20.html
END:VEVENT
END:VCALENDAR
