BEGIN:VCALENDAR
VERSION:2.0
PRODID:hinto.net
X-PUBLISHED-TTL:P1W
BEGIN:VEVENT
UID:hinto.net-event_show-6924871
DTSTART:20260522T200000
SEQUENCE:0
CREATED:20260419T051916
LAST-MODIFIED:20260419T051916
TRANSP:OPAQUE

LOCATION:Campo Al Ponte
SUMMARY:River Lucifer
CLASS:PUBLIC
DESCRIPTION:
ORGANIZER:
DTSTAMP:20260419T234040
ATTACH:https://www.hinto.ch/de/events/river-lucifer-22-05-2026-2000-campo-al-ponte-claro-e2847179-20.html
END:VEVENT
END:VCALENDAR
