BEGIN:VCALENDAR
VERSION:2.0
PRODID:hinto.net
X-PUBLISHED-TTL:P1W
BEGIN:VEVENT
UID:hinto.net-event_show-6726425
DTSTART:20260516T100000
SEQUENCE:0
CREATED:20260218T093750
LAST-MODIFIED:20260218T093750
TRANSP:OPAQUE
DTEND:20260516T180000
LOCATION:Legionärspfad Vindonissa
SUMMARY:Römisch Schmieden
CLASS:PUBLIC
DESCRIPTION:
ORGANIZER:
DTSTAMP:20260421T044531
ATTACH:https://www.hinto.ch/de/events/roemisch-schmieden-16-05-2026-1000-legionaerspfad-vindonissa-windisch-e2689380-20.html
END:VEVENT
END:VCALENDAR
