BEGIN:VCALENDAR
VERSION:2.0
PRODID:hinto.net
X-PUBLISHED-TTL:P1W
BEGIN:VEVENT
UID:hinto.net-event_show-6867414
DTSTART:20260419T201500
SEQUENCE:0
CREATED:20260403T104031
LAST-MODIFIED:20260403T104031
TRANSP:OPAQUE
DTEND:20260419T211000
LOCATION:
SUMMARY:RTL II: Kampf der RealityAllstars
CLASS:PUBLIC
DESCRIPTION:
ORGANIZER:
DTSTAMP:20260420T082759
ATTACH:https://www.hinto.ch/de/events/rtl-ii-kampf-der-realityallstars-19-04-2026-2015-e2797382-20.html
END:VEVENT
END:VCALENDAR
