BEGIN:VCALENDAR
VERSION:2.0
PRODID:hinto.net
X-PUBLISHED-TTL:P1W
BEGIN:VEVENT
UID:hinto.net-event_show-6862908
DTSTART:20260419T190300
SEQUENCE:0
CREATED:20260329T151455
LAST-MODIFIED:20260329T151455
TRANSP:OPAQUE
DTEND:20260419T190500
LOCATION:
SUMMARY:RTL: RTL Aktuell - Das Wetter
CLASS:PUBLIC
DESCRIPTION:
ORGANIZER:
DTSTAMP:20260420T081737
ATTACH:https://www.hinto.ch/de/events/rtl-rtl-aktuell-das-wetter-19-04-2026-1903-e2793524-20.html
END:VEVENT
END:VCALENDAR
