BEGIN:VCALENDAR
VERSION:2.0
PRODID:hinto.net
X-PUBLISHED-TTL:P1W
BEGIN:VEVENT
UID:hinto.net-event_show-6913187
DTSTART:20260417T014000
SEQUENCE:0
CREATED:20260415T192527
LAST-MODIFIED:20260415T192527
TRANSP:OPAQUE
DTEND:20260417T021100
LOCATION:
SUMMARY:RTS 2: 19h30 - Signé
CLASS:PUBLIC
DESCRIPTION:
ORGANIZER:
DTSTAMP:20260419T183359
ATTACH:https://www.hinto.ch/de/events/rts-2-19h30-signe-17-04-2026-0140-e2836845-20.html
END:VEVENT
END:VCALENDAR
