BEGIN:VCALENDAR
VERSION:2.0
PRODID:hinto.net
X-PUBLISHED-TTL:P1W
BEGIN:VEVENT
UID:hinto.net-event_show-6862654
DTSTART:20260419T165500
SEQUENCE:0
CREATED:20260418T064733
LAST-MODIFIED:20260418T064733
TRANSP:OPAQUE
DTEND:20260419T175000
LOCATION:
SUMMARY:RTS 2: Elfic Fribourg - Nyon Basket Féminin
CLASS:PUBLIC
DESCRIPTION:
ORGANIZER:
DTSTAMP:20260421T004201
ATTACH:https://www.hinto.ch/de/events/rts-2-elfic-fribourg-nyon-basket-feminin-19-04-2026-1655-e2793270-20.html
END:VEVENT
END:VCALENDAR
