BEGIN:VCALENDAR
VERSION:2.0
PRODID:hinto.net
X-PUBLISHED-TTL:P1W
BEGIN:VEVENT
UID:hinto.net-event_show-6903858
DTSTART:20260423T190000
SEQUENCE:0
CREATED:20260411T114619
LAST-MODIFIED:20260411T114619
TRANSP:OPAQUE

LOCATION:pollinger kitchen & living
SUMMARY:Sam Gruber live!
CLASS:PUBLIC
DESCRIPTION:
ORGANIZER:
DTSTAMP:20260420T024028
ATTACH:https://www.hinto.ch/de/events/sam-gruber-live!-23-04-2026-1900-pollinger-kitchen-living-visp-e2829095-20.html
END:VEVENT
END:VCALENDAR
