BEGIN:VCALENDAR
VERSION:2.0
PRODID:hinto.net
X-PUBLISHED-TTL:P1W
BEGIN:VEVENT
UID:hinto.net-event_show-6867423
DTSTART:20260419T161500
SEQUENCE:0
CREATED:20260331T201944
LAST-MODIFIED:20260331T201944
TRANSP:OPAQUE
DTEND:20260419T185500
LOCATION:
SUMMARY:SAT 1: Phantastische Tierwesen 2: Grindelwalds Verbrechen
CLASS:PUBLIC
DESCRIPTION:
ORGANIZER:
DTSTAMP:20260420T224954
ATTACH:https://www.hinto.ch/de/events/sat-1-phantastische-tierwesen-2-grindelwalds-verbrechen-19-04-2026-1615-e2797391-20.html
END:VEVENT
END:VCALENDAR
