BEGIN:VCALENDAR
VERSION:2.0
PRODID:hinto.net
X-PUBLISHED-TTL:P1W
BEGIN:VEVENT
UID:hinto.net-event_show-6619795
DTSTART:20261031T200000
SEQUENCE:0
CREATED:20260114T064204
LAST-MODIFIED:20260114T064204
TRANSP:OPAQUE
DTEND:20261031T000000
LOCATION:Fauteuil
SUMMARY:Schreiber vs. Schneider - Schatz!
CLASS:PUBLIC
DESCRIPTION:
ORGANIZER:
DTSTAMP:20260420T021856
ATTACH:https://www.hinto.ch/de/events/schreiber-vs-schneider-schatz!-31-10-2026-2000-fauteuil-basel-e2598625-20.html
END:VEVENT
END:VCALENDAR
